BEGIN:VCALENDAR
VERSION:2.0
PRODID:http://www.st-lambertus-saarburgerland.de
BEGIN:VEVENT
UID:29292833-0248-11f1-8342-0242ac11002b-1777132800000-de
DTSTAMP:20260205T040717Z
DTSTART:20260425T160000Z
DTEND:20260425T173000Z
SUMMARY;LANGUAGE=de:Markusprozession ab Stausee, anschl. Andacht in der Kirche
END:VEVENT
END:VCALENDAR
