BEGIN:VCALENDAR
VERSION:2.0
PRODID:http://www.st-lambertus-saarburgerland.de
BEGIN:VEVENT
UID:a0ad4685-3df8-11f1-a3e9-0242ac11002b-1785393000000-de
DTSTAMP:20260422T030908Z
DTSTART:20260730T063000Z
DTEND:20260730T070000Z
SUMMARY;LANGUAGE=de:Rosenkranzgebet
URL:http://www.st-lambertus-saarburgerland.de/aktuelles/gottesdienste/gottesdienst/Rosenkranzgebet-2026.07.30/
END:VEVENT
END:VCALENDAR
